BEGIN:VCALENDAR
VERSION:2.0
PRODID:-//Folktale Winery &amp; Vineyard - ECPv6.15.20//NONSGML v1.0//EN
CALSCALE:GREGORIAN
METHOD:PUBLISH
X-WR-CALNAME:Folktale Winery &amp; Vineyard
X-ORIGINAL-URL:https://www.folktalewinery.com
X-WR-CALDESC:Events for Folktale Winery &amp; Vineyard
REFRESH-INTERVAL;VALUE=DURATION:PT1H
X-Robots-Tag:noindex
X-PUBLISHED-TTL:PT1H
BEGIN:VTIMEZONE
TZID:America/Vancouver
BEGIN:DAYLIGHT
TZOFFSETFROM:-0800
TZOFFSETTO:-0700
TZNAME:PDT
DTSTART:20230312T100000
END:DAYLIGHT
BEGIN:STANDARD
TZOFFSETFROM:-0700
TZOFFSETTO:-0800
TZNAME:PST
DTSTART:20231105T090000
END:STANDARD
BEGIN:DAYLIGHT
TZOFFSETFROM:-0800
TZOFFSETTO:-0700
TZNAME:PDT
DTSTART:20240310T100000
END:DAYLIGHT
BEGIN:STANDARD
TZOFFSETFROM:-0700
TZOFFSETTO:-0800
TZNAME:PST
DTSTART:20241103T090000
END:STANDARD
BEGIN:DAYLIGHT
TZOFFSETFROM:-0800
TZOFFSETTO:-0700
TZNAME:PDT
DTSTART:20250309T100000
END:DAYLIGHT
BEGIN:STANDARD
TZOFFSETFROM:-0700
TZOFFSETTO:-0800
TZNAME:PST
DTSTART:20251102T090000
END:STANDARD
END:VTIMEZONE
BEGIN:VEVENT
DTSTART;TZID=America/Vancouver:20240905T170000
DTEND;TZID=America/Vancouver:20240905T190000
DTSTAMP:20260422T043828
CREATED:20240828T213646Z
LAST-MODIFIED:20240828T213646Z
UID:10017502-1725555600-1725562800@www.folktalewinery.com
SUMMARY:Workshop: Nautilus and Sway
DESCRIPTION:Experience the highly-anticipated return of the Suncatcher Workshop with Nautilus and Sway! Prepare to unleash your creativity as you delve into the art of crafting your own stunning suncatcher using an eclectic mix of sea glass\, beads\, driftwood\, and shells. Indulge in the delightful flavors of Folktale wine while you immerse yourself in this hands-on and unforgettable artistic journey. This is your opportunity to create\, indulge\, and be inspired! \nPURCHASE YOUR TICKET
URL:https://www.folktalewinery.com/event/workshop-nautilus-and-sway-2/
LOCATION:Folktale Winery\, 8940 Carmel Valley Road\, Carmel\, CA\, 93923\, United States
END:VEVENT
END:VCALENDAR