BEGIN:VCALENDAR
VERSION:2.0
PRODID:-//Folktale Winery &amp; Vineyard - ECPv6.15.20//NONSGML v1.0//EN
CALSCALE:GREGORIAN
METHOD:PUBLISH
X-ORIGINAL-URL:https://www.folktalewinery.com
X-WR-CALDESC:Events for Folktale Winery &amp; Vineyard
REFRESH-INTERVAL;VALUE=DURATION:PT1H
X-Robots-Tag:noindex
X-PUBLISHED-TTL:PT1H
BEGIN:VTIMEZONE
TZID:America/Vancouver
BEGIN:DAYLIGHT
TZOFFSETFROM:-0800
TZOFFSETTO:-0700
TZNAME:PDT
DTSTART:20230312T100000
END:DAYLIGHT
BEGIN:STANDARD
TZOFFSETFROM:-0700
TZOFFSETTO:-0800
TZNAME:PST
DTSTART:20231105T090000
END:STANDARD
BEGIN:DAYLIGHT
TZOFFSETFROM:-0800
TZOFFSETTO:-0700
TZNAME:PDT
DTSTART:20240310T100000
END:DAYLIGHT
BEGIN:STANDARD
TZOFFSETFROM:-0700
TZOFFSETTO:-0800
TZNAME:PST
DTSTART:20241103T090000
END:STANDARD
BEGIN:DAYLIGHT
TZOFFSETFROM:-0800
TZOFFSETTO:-0700
TZNAME:PDT
DTSTART:20250309T100000
END:DAYLIGHT
BEGIN:STANDARD
TZOFFSETFROM:-0700
TZOFFSETTO:-0800
TZNAME:PST
DTSTART:20251102T090000
END:STANDARD
END:VTIMEZONE
BEGIN:VEVENT
DTSTART;TZID=America/Vancouver:20240912T170000
DTEND;TZID=America/Vancouver:20240912T203000
DTSTAMP:20260422T044140
CREATED:20240807T165132Z
LAST-MODIFIED:20240906T191903Z
UID:10017499-1726160400-1726173000@www.folktalewinery.com
SUMMARY:Live @ Folktale: The Black Donnellys
DESCRIPTION:Join us on Thursday\, September 12\, in our Wine Garden for an evening filled with amazing music\, delicious food\, and exquisite wine as we welcome back The Black Donnellys! \nThe Black Donnellys are a highly acclaimed band from Dublin\, renowned for breaking multiple Guinness World Records. Currently based in Las Vegas\, they perform as resident musicians at Rí Rá Irish Pub in the Mandalay Bay Resort and Casino on the iconic Las Vegas Strip. The band includes award-winning singer/songwriter Dave Rooney and Guinness World Record-holding guitarist Dave Browne. \nBeyond their musical achievements\, The Black Donnellys have made a notable impact in documentary filmmaking. Their previous work\, *An Irish Story—This is My Home*\, highlighted their storytelling prowess. Their latest documentary\, *Through a Storm—The Untold Stories of 9/11*\, delves into the collective memory and personal experiences surrounding the tragic events of September 11\, 2001. \nAs part of their show\, they will be accompanied by several 9/11 veteran firefighters featured in the movie and associated with the Tunnel to Towers charity. The event will also include a Q&A session\, providing the audience with a unique and meaningful experience. \nFolktale Wine Club members receive premier access to all events and ticket discounts. Not a member? Join the club! \nPURCHASE YOUR TICKET(S)
URL:https://www.folktalewinery.com/event/live-folktale-the-black-donnellys/
LOCATION:Folktale Winery\, 8940 Carmel Valley Road\, Carmel\, CA\, 93923\, United States
END:VEVENT
END:VCALENDAR