BEGIN:VCALENDAR
VERSION:2.0
PRODID:-//Folktale Winery &amp; Vineyard - ECPv6.15.20//NONSGML v1.0//EN
CALSCALE:GREGORIAN
METHOD:PUBLISH
X-WR-CALNAME:Folktale Winery &amp; Vineyard
X-ORIGINAL-URL:https://www.folktalewinery.com
X-WR-CALDESC:Events for Folktale Winery &amp; Vineyard
REFRESH-INTERVAL;VALUE=DURATION:PT1H
X-Robots-Tag:noindex
X-PUBLISHED-TTL:PT1H
BEGIN:VTIMEZONE
TZID:America/Vancouver
BEGIN:DAYLIGHT
TZOFFSETFROM:-0800
TZOFFSETTO:-0700
TZNAME:PDT
DTSTART:20230312T100000
END:DAYLIGHT
BEGIN:STANDARD
TZOFFSETFROM:-0700
TZOFFSETTO:-0800
TZNAME:PST
DTSTART:20231105T090000
END:STANDARD
BEGIN:DAYLIGHT
TZOFFSETFROM:-0800
TZOFFSETTO:-0700
TZNAME:PDT
DTSTART:20240310T100000
END:DAYLIGHT
BEGIN:STANDARD
TZOFFSETFROM:-0700
TZOFFSETTO:-0800
TZNAME:PST
DTSTART:20241103T090000
END:STANDARD
BEGIN:DAYLIGHT
TZOFFSETFROM:-0800
TZOFFSETTO:-0700
TZNAME:PDT
DTSTART:20250309T100000
END:DAYLIGHT
BEGIN:STANDARD
TZOFFSETFROM:-0700
TZOFFSETTO:-0800
TZNAME:PST
DTSTART:20251102T090000
END:STANDARD
END:VTIMEZONE
BEGIN:VEVENT
DTSTART;TZID=America/Vancouver:20241215T140000
DTEND;TZID=America/Vancouver:20241215T160000
DTSTAMP:20260425T110934
CREATED:20241126T055707Z
LAST-MODIFIED:20241126T055707Z
UID:10017798-1734271200-1734278400@www.folktalewinery.com
SUMMARY:Winter Wine Club Pick-Up Party
DESCRIPTION:Be among the first to taste our latest wine release\, indulge in delectable culinary offerings\, mingle with fellow Wine Club members\, and so much more. This event is exclusive to Wine Club members. Please log into your portal to reserve your spot. Not a member yet? Join the club [here]!
URL:https://www.folktalewinery.com/event/winter-wine-club-pick-up-party/
LOCATION:Folktale Winery\, 8940 Carmel Valley Road\, Carmel\, CA\, 93923\, United States
END:VEVENT
END:VCALENDAR