BEGIN:VCALENDAR
VERSION:2.0
PRODID:-//Folktale Winery &amp; Vineyard - ECPv6.15.20//NONSGML v1.0//EN
CALSCALE:GREGORIAN
METHOD:PUBLISH
X-ORIGINAL-URL:https://www.folktalewinery.com
X-WR-CALDESC:Events for Folktale Winery &amp; Vineyard
REFRESH-INTERVAL;VALUE=DURATION:PT1H
X-Robots-Tag:noindex
X-PUBLISHED-TTL:PT1H
BEGIN:VTIMEZONE
TZID:America/Vancouver
BEGIN:DAYLIGHT
TZOFFSETFROM:-0800
TZOFFSETTO:-0700
TZNAME:PDT
DTSTART:20240310T100000
END:DAYLIGHT
BEGIN:STANDARD
TZOFFSETFROM:-0700
TZOFFSETTO:-0800
TZNAME:PST
DTSTART:20241103T090000
END:STANDARD
BEGIN:DAYLIGHT
TZOFFSETFROM:-0800
TZOFFSETTO:-0700
TZNAME:PDT
DTSTART:20250309T100000
END:DAYLIGHT
BEGIN:STANDARD
TZOFFSETFROM:-0700
TZOFFSETTO:-0800
TZNAME:PST
DTSTART:20251102T090000
END:STANDARD
BEGIN:DAYLIGHT
TZOFFSETFROM:-0800
TZOFFSETTO:-0700
TZNAME:PDT
DTSTART:20260308T100000
END:DAYLIGHT
BEGIN:STANDARD
TZOFFSETFROM:-0700
TZOFFSETTO:-0800
TZNAME:PST
DTSTART:20261101T090000
END:STANDARD
END:VTIMEZONE
BEGIN:VEVENT
DTSTART;TZID=America/Vancouver:20250802T170000
DTEND;TZID=America/Vancouver:20250802T190000
DTSTAMP:20260422T090617
CREATED:20250731T180413Z
LAST-MODIFIED:20250731T180413Z
UID:10018478-1754154000-1754161200@www.folktalewinery.com
SUMMARY:Adrea Castino
DESCRIPTION:Adrea Castiano delivers dark\, confessional songs with a singular style and a voice described as sweet and haunting. Her songs have won multiple awards\, including “Best Song of The Year” for 2020 and 2021 from The West Coast Songwriters Association and “Best Overall” in the 2019 Songwriters At Play song contest. She has been featured in collaborations with producers worldwide\, including KR3TURE\, Hokima\, and Joaquin Sun. A Santa Cruz\, CA native\, Adrea resides in Nashville\, TN\, where she is recording her debut album. \nLive music is complimentary to our guests to enjoy during your visit with us! Check out the full upcoming lineup.
URL:https://www.folktalewinery.com/event/adrea-castino-5/
LOCATION:Folktale Winery\, 8940 Carmel Valley Road\, Carmel\, CA\, 93923\, United States
END:VEVENT
END:VCALENDAR