BEGIN:VCALENDAR
VERSION:2.0
PRODID:-//Folktale Winery &amp; Vineyard - ECPv6.15.20//NONSGML v1.0//EN
CALSCALE:GREGORIAN
METHOD:PUBLISH
X-ORIGINAL-URL:https://www.folktalewinery.com
X-WR-CALDESC:Events for Folktale Winery &amp; Vineyard
REFRESH-INTERVAL;VALUE=DURATION:PT1H
X-Robots-Tag:noindex
X-PUBLISHED-TTL:PT1H
BEGIN:VTIMEZONE
TZID:America/Vancouver
BEGIN:DAYLIGHT
TZOFFSETFROM:-0800
TZOFFSETTO:-0700
TZNAME:PDT
DTSTART:20240310T100000
END:DAYLIGHT
BEGIN:STANDARD
TZOFFSETFROM:-0700
TZOFFSETTO:-0800
TZNAME:PST
DTSTART:20241103T090000
END:STANDARD
BEGIN:DAYLIGHT
TZOFFSETFROM:-0800
TZOFFSETTO:-0700
TZNAME:PDT
DTSTART:20250309T100000
END:DAYLIGHT
BEGIN:STANDARD
TZOFFSETFROM:-0700
TZOFFSETTO:-0800
TZNAME:PST
DTSTART:20251102T090000
END:STANDARD
BEGIN:DAYLIGHT
TZOFFSETFROM:-0800
TZOFFSETTO:-0700
TZNAME:PDT
DTSTART:20260308T100000
END:DAYLIGHT
BEGIN:STANDARD
TZOFFSETFROM:-0700
TZOFFSETTO:-0800
TZNAME:PST
DTSTART:20261101T090000
END:STANDARD
END:VTIMEZONE
BEGIN:VEVENT
DTSTART;TZID=America/Vancouver:20250827T140000
DTEND;TZID=America/Vancouver:20250827T160000
DTSTAMP:20260425T064812
CREATED:20250731T182345Z
LAST-MODIFIED:20250821T215154Z
UID:10018498-1756303200-1756310400@www.folktalewinery.com
SUMMARY:Tim Brady
DESCRIPTION:Tim Brady is a singer/songwriter from the Monterey Bay area and leader of the locally award winning Santa Cruz band Cement Ship.  The acoustic guitar style\, singing tone and original songs from Tim seem to fit a wide array of crowds and genres\, but maintains a natural and stripped down approach for the sound.  Honest and raw\, sweet and smoky\, dynamic like the sea.  The band’s namesake is taken from local landmark the SS Palo Alto\, and the music has been described as ‘Americana Soul’ or ‘Beach Folk’. \nLive music is complimentary to our guests to enjoy during your visit with us! Check out the full upcoming lineup.
URL:https://www.folktalewinery.com/event/tim-brady-3/
LOCATION:Folktale Winery\, 8940 Carmel Valley Road\, Carmel\, CA\, 93923\, United States
END:VEVENT
BEGIN:VEVENT
DTSTART;TZID=America/Vancouver:20250827T160000
DTEND;TZID=America/Vancouver:20250827T200000
DTSTAMP:20260425T064812
CREATED:20250821T215054Z
LAST-MODIFIED:20250821T220337Z
UID:10018516-1756310400-1756324800@www.folktalewinery.com
SUMMARY:WINE GARDEN CLOSED
DESCRIPTION:Wine Garden Closing Early at 4 PM for Private Event.
URL:https://www.folktalewinery.com/event/wine-garden-closed-for-private-event/
LOCATION:Folktale Winery\, 8940 Carmel Valley Road\, Carmel\, CA\, 93923\, United States
END:VEVENT
END:VCALENDAR