BEGIN:VCALENDAR
VERSION:2.0
PRODID:-//Folktale Winery &amp; Vineyard - ECPv6.15.20//NONSGML v1.0//EN
CALSCALE:GREGORIAN
METHOD:PUBLISH
X-WR-CALNAME:Folktale Winery &amp; Vineyard
X-ORIGINAL-URL:https://www.folktalewinery.com
X-WR-CALDESC:Events for Folktale Winery &amp; Vineyard
REFRESH-INTERVAL;VALUE=DURATION:PT1H
X-Robots-Tag:noindex
X-PUBLISHED-TTL:PT1H
BEGIN:VTIMEZONE
TZID:America/Vancouver
BEGIN:DAYLIGHT
TZOFFSETFROM:-0800
TZOFFSETTO:-0700
TZNAME:PDT
DTSTART:20240310T100000
END:DAYLIGHT
BEGIN:STANDARD
TZOFFSETFROM:-0700
TZOFFSETTO:-0800
TZNAME:PST
DTSTART:20241103T090000
END:STANDARD
BEGIN:DAYLIGHT
TZOFFSETFROM:-0800
TZOFFSETTO:-0700
TZNAME:PDT
DTSTART:20250309T100000
END:DAYLIGHT
BEGIN:STANDARD
TZOFFSETFROM:-0700
TZOFFSETTO:-0800
TZNAME:PST
DTSTART:20251102T090000
END:STANDARD
BEGIN:DAYLIGHT
TZOFFSETFROM:-0800
TZOFFSETTO:-0700
TZNAME:PDT
DTSTART:20260308T100000
END:DAYLIGHT
BEGIN:STANDARD
TZOFFSETFROM:-0700
TZOFFSETTO:-0800
TZNAME:PST
DTSTART:20261101T090000
END:STANDARD
END:VTIMEZONE
BEGIN:VEVENT
DTSTART;TZID=America/Vancouver:20251116T100000
DTEND;TZID=America/Vancouver:20251116T110000
DTSTAMP:20260425T085620
CREATED:20250701T110057Z
LAST-MODIFIED:20260103T000841Z
UID:10017959-1763287200-1763290800@www.folktalewinery.com
SUMMARY:Yoga in the Vines
DESCRIPTION:Join us for an all-levels yoga class followed by a soul-nourishing sound bath meditation\, all set in our stunning vineyards. \nRegister today!
URL:https://www.folktalewinery.com/event/yoga-in-the-vines-2/2025-11-16/
LOCATION:Folktale Winery\, 8940 Carmel Valley Road\, Carmel\, CA\, 93923\, United States
END:VEVENT
BEGIN:VEVENT
DTSTART;TZID=America/Vancouver:20251116T110000
DTEND;TZID=America/Vancouver:20251116T130000
DTSTAMP:20260425T085621
CREATED:20251021T212146Z
LAST-MODIFIED:20251021T212146Z
UID:10018624-1763290800-1763298000@www.folktalewinery.com
SUMMARY:Jesse DeCarlo Funk Quartet
DESCRIPTION:Jesse DeCarlo is a Monterey native and has been a fixture on the local music scene for many years. He has played guitar and bass with well-known local artists\, including Dani Paige\, Jim Payne\, Al James\, Minor Williams\, Malinda DeRouen\, and more. Jesse will perform a mix of instrumental jazz and funk with a stellar lineup of local performers. \nMusic is complimentary for our guests to enjoy during your visit with us; reservations recommended! Check out the full upcoming lineup.
URL:https://www.folktalewinery.com/event/jesse-decarlo-funk-quartet/
LOCATION:Folktale Winery\, 8940 Carmel Valley Road\, Carmel\, CA\, 93923\, United States
END:VEVENT
BEGIN:VEVENT
DTSTART;TZID=America/Vancouver:20251116T150000
DTEND;TZID=America/Vancouver:20251116T170000
DTSTAMP:20260425T085621
CREATED:20251021T212247Z
LAST-MODIFIED:20251021T212247Z
UID:10018625-1763305200-1763312400@www.folktalewinery.com
SUMMARY:Burnout
DESCRIPTION:Burnout is a four-piece indie rock and country band hailing from Ventura and Santa Cruz\, California. Drawing inspiration from artists like Zach Bryan\, The Red Clay Strays\, and The Backseat Lovers\, Burnout blends the raw storytelling of country and folk with the energy and melodies of indie rock to create a sound that’s both dynamic and unmistakably their own. Their live shows feature a mix of original songs and carefully selected covers\, resonating with audiences and leaving a lasting impression at every venue they play. With a loyal and growing fanbase\, Burnout is carving out a space all their own in the modern Americana scene. \nMusic is complimentary for our guests to enjoy during your visit with us; reservations recommended! Check out the full upcoming lineup.
URL:https://www.folktalewinery.com/event/burnout-3/
LOCATION:Folktale Winery\, 8940 Carmel Valley Road\, Carmel\, CA\, 93923\, United States
END:VEVENT
END:VCALENDAR