BEGIN:VCALENDAR
VERSION:2.0
PRODID:-//Folktale Winery &amp; Vineyard - ECPv6.15.20//NONSGML v1.0//EN
CALSCALE:GREGORIAN
METHOD:PUBLISH
X-ORIGINAL-URL:https://www.folktalewinery.com
X-WR-CALDESC:Events for Folktale Winery &amp; Vineyard
REFRESH-INTERVAL;VALUE=DURATION:PT1H
X-Robots-Tag:noindex
X-PUBLISHED-TTL:PT1H
BEGIN:VTIMEZONE
TZID:America/Vancouver
BEGIN:DAYLIGHT
TZOFFSETFROM:-0800
TZOFFSETTO:-0700
TZNAME:PDT
DTSTART:20220313T100000
END:DAYLIGHT
BEGIN:STANDARD
TZOFFSETFROM:-0700
TZOFFSETTO:-0800
TZNAME:PST
DTSTART:20221106T090000
END:STANDARD
BEGIN:DAYLIGHT
TZOFFSETFROM:-0800
TZOFFSETTO:-0700
TZNAME:PDT
DTSTART:20230312T100000
END:DAYLIGHT
BEGIN:STANDARD
TZOFFSETFROM:-0700
TZOFFSETTO:-0800
TZNAME:PST
DTSTART:20231105T090000
END:STANDARD
BEGIN:DAYLIGHT
TZOFFSETFROM:-0800
TZOFFSETTO:-0700
TZNAME:PDT
DTSTART:20240310T100000
END:DAYLIGHT
BEGIN:STANDARD
TZOFFSETFROM:-0700
TZOFFSETTO:-0800
TZNAME:PST
DTSTART:20241103T090000
END:STANDARD
END:VTIMEZONE
BEGIN:VEVENT
DTSTART;TZID=America/Vancouver:20230820T140000
DTEND;TZID=America/Vancouver:20230820T160000
DTSTAMP:20260421T054631
CREATED:20230731T171218Z
LAST-MODIFIED:20240521T075254Z
UID:10007842-1692540000-1692547200@www.folktalewinery.com
SUMMARY:Live Music
DESCRIPTION:Enjoy Complimentary Live Music in our beautiful wine garden! Check out the full music lineup.
URL:https://www.folktalewinery.com/event/live-music-2/2023-08-20/
LOCATION:Folktale Winery\, 8940 Carmel Valley Road\, Carmel\, CA\, 93923\, United States
END:VEVENT
BEGIN:VEVENT
DTSTART;TZID=America/Vancouver:20230820T140000
DTEND;TZID=America/Vancouver:20230820T160000
DTSTAMP:20260421T054631
CREATED:20230806T203619Z
LAST-MODIFIED:20230806T203619Z
UID:10008107-1692540000-1692547200@www.folktalewinery.com
SUMMARY:Casey Wickstrom
DESCRIPTION:
URL:https://www.folktalewinery.com/event/casey-wickstrom/
LOCATION:CA
END:VEVENT
BEGIN:VEVENT
DTSTART;TZID=America/Vancouver:20230824T160000
DTEND;TZID=America/Vancouver:20230824T180000
DTSTAMP:20260421T054631
CREATED:20230806T203659Z
LAST-MODIFIED:20230806T203659Z
UID:10008108-1692892800-1692900000@www.folktalewinery.com
SUMMARY:Daniel Cortes
DESCRIPTION:
URL:https://www.folktalewinery.com/event/daniel-cortes/
LOCATION:CA
END:VEVENT
BEGIN:VEVENT
DTSTART;TZID=America/Vancouver:20230825T160000
DTEND;TZID=America/Vancouver:20230825T180000
DTSTAMP:20260421T054631
CREATED:20230731T155034Z
LAST-MODIFIED:20231113T162747Z
UID:10009213-1692979200-1692986400@www.folktalewinery.com
SUMMARY:Live Music
DESCRIPTION:Enjoy Live Music in our beautiful wine garden!
URL:https://www.folktalewinery.com/event/live-music/2023-08-25/
LOCATION:Folktale Winery\, 8940 Carmel Valley Road\, Carmel\, CA\, 93923\, United States
END:VEVENT
BEGIN:VEVENT
DTSTART;TZID=America/Vancouver:20230825T160000
DTEND;TZID=America/Vancouver:20230825T180000
DTSTAMP:20260421T054631
CREATED:20230806T203739Z
LAST-MODIFIED:20230806T203739Z
UID:10008109-1692979200-1692986400@www.folktalewinery.com
SUMMARY:Kris Angelis
DESCRIPTION:
URL:https://www.folktalewinery.com/event/kris-angelis-2/
LOCATION:CA
END:VEVENT
BEGIN:VEVENT
DTSTART;TZID=America/Vancouver:20230826T160000
DTEND;TZID=America/Vancouver:20230826T180000
DTSTAMP:20260421T054631
CREATED:20230806T203811Z
LAST-MODIFIED:20230806T203811Z
UID:10008110-1693065600-1693072800@www.folktalewinery.com
SUMMARY:John Vicino
DESCRIPTION:
URL:https://www.folktalewinery.com/event/john-vicino/
LOCATION:CA
END:VEVENT
END:VCALENDAR