BEGIN:VCALENDAR
VERSION:2.0
PRODID:-//Folktale Winery &amp; Vineyard - ECPv6.15.20//NONSGML v1.0//EN
CALSCALE:GREGORIAN
METHOD:PUBLISH
X-WR-CALNAME:Folktale Winery &amp; Vineyard
X-ORIGINAL-URL:https://www.folktalewinery.com
X-WR-CALDESC:Events for Folktale Winery &amp; Vineyard
REFRESH-INTERVAL;VALUE=DURATION:PT1H
X-Robots-Tag:noindex
X-PUBLISHED-TTL:PT1H
BEGIN:VTIMEZONE
TZID:America/Vancouver
BEGIN:DAYLIGHT
TZOFFSETFROM:-0800
TZOFFSETTO:-0700
TZNAME:PDT
DTSTART:20230312T100000
END:DAYLIGHT
BEGIN:STANDARD
TZOFFSETFROM:-0700
TZOFFSETTO:-0800
TZNAME:PST
DTSTART:20231105T090000
END:STANDARD
BEGIN:DAYLIGHT
TZOFFSETFROM:-0800
TZOFFSETTO:-0700
TZNAME:PDT
DTSTART:20240310T100000
END:DAYLIGHT
BEGIN:STANDARD
TZOFFSETFROM:-0700
TZOFFSETTO:-0800
TZNAME:PST
DTSTART:20241103T090000
END:STANDARD
BEGIN:DAYLIGHT
TZOFFSETFROM:-0800
TZOFFSETTO:-0700
TZNAME:PDT
DTSTART:20250309T100000
END:DAYLIGHT
BEGIN:STANDARD
TZOFFSETFROM:-0700
TZOFFSETTO:-0800
TZNAME:PST
DTSTART:20251102T090000
END:STANDARD
END:VTIMEZONE
BEGIN:VEVENT
DTSTART;TZID=America/Vancouver:20240512T130000
DTEND;TZID=America/Vancouver:20240512T153000
DTSTAMP:20260422T121341
CREATED:20240415T190934Z
LAST-MODIFIED:20240415T190934Z
UID:10014969-1715518800-1715527800@www.folktalewinery.com
SUMMARY:Mother's Day Matinee: Best of San Francisco Comedy Competition
DESCRIPTION:Looking for a fun way to celebrate Mother’s Day? Join us in our Wine Garden for a matinee comedy show featuring the Best of The San Francisco Comedy Competition! Get ready to laugh until your sides hurt with hilarious past finalists Pauline Yasuda\, Jaci Terjeson\, a past finalist for the Seattle San Francisco Comedy Competition​\, and host Shawn Felipe. \nPauline Yasuda won the title of California’s Funniest Female in 2013 ​and has been a part of the Asheville Comedy Festival\, Cleveland Comedy Festival\, Burbank Comedy Festival\, and the World Series of Comedy\, to name a few. You can see her on Season 1 of the Amazon Prime show\, “Laugh After Dark\,” and commercials for VW\, State Farm\, and Avocados From Mexico. \nJaci Terjeson is a talented comedian who produces The Laughing Elk Comedy Show in Tacoma and is a regular at Club Comedy and Tacoma Comedy for Club. She has been featured as “Comic of the Week” on the Jackie and Laurie Show and was a selected performer at the Upper Left Comedy Fest and NW Women’s Comedy Festival. \nShawn Felipe is a rising star in comedy. He is known for his family-friendly humor on Drybar and for winning the Food Network’s “The Great Food Truck Race.” He has performed at over 200 colleges and entertained U.S. military personnel and cruise ship passengers.
URL:https://www.folktalewinery.com/event/mothers-day-matinee-best-of-san-francisco-comedy-competition/
LOCATION:Folktale Winery\, 8940 Carmel Valley Road\, Carmel\, CA\, 93923\, United States
END:VEVENT
BEGIN:VEVENT
DTSTART;TZID=America/Vancouver:20240512T140000
DTEND;TZID=America/Vancouver:20240512T160000
DTSTAMP:20260422T121341
CREATED:20230731T171218Z
LAST-MODIFIED:20240521T075254Z
UID:10007880-1715522400-1715529600@www.folktalewinery.com
SUMMARY:Live Music
DESCRIPTION:Enjoy Complimentary Live Music in our beautiful wine garden! Check out the full music lineup.
URL:https://www.folktalewinery.com/event/live-music-2/2024-05-12/
LOCATION:Folktale Winery\, 8940 Carmel Valley Road\, Carmel\, CA\, 93923\, United States
END:VEVENT
END:VCALENDAR