BEGIN:VCALENDAR
VERSION:2.0
PRODID:-//Folktale Winery &amp; Vineyard - ECPv6.15.20//NONSGML v1.0//EN
CALSCALE:GREGORIAN
METHOD:PUBLISH
X-ORIGINAL-URL:https://www.folktalewinery.com
X-WR-CALDESC:Events for Folktale Winery &amp; Vineyard
REFRESH-INTERVAL;VALUE=DURATION:PT1H
X-Robots-Tag:noindex
X-PUBLISHED-TTL:PT1H
BEGIN:VTIMEZONE
TZID:America/Vancouver
BEGIN:DAYLIGHT
TZOFFSETFROM:-0800
TZOFFSETTO:-0700
TZNAME:PDT
DTSTART:20230312T100000
END:DAYLIGHT
BEGIN:STANDARD
TZOFFSETFROM:-0700
TZOFFSETTO:-0800
TZNAME:PST
DTSTART:20231105T090000
END:STANDARD
BEGIN:DAYLIGHT
TZOFFSETFROM:-0800
TZOFFSETTO:-0700
TZNAME:PDT
DTSTART:20240310T100000
END:DAYLIGHT
BEGIN:STANDARD
TZOFFSETFROM:-0700
TZOFFSETTO:-0800
TZNAME:PST
DTSTART:20241103T090000
END:STANDARD
BEGIN:DAYLIGHT
TZOFFSETFROM:-0800
TZOFFSETTO:-0700
TZNAME:PDT
DTSTART:20250309T100000
END:DAYLIGHT
BEGIN:STANDARD
TZOFFSETFROM:-0700
TZOFFSETTO:-0800
TZNAME:PST
DTSTART:20251102T090000
END:STANDARD
END:VTIMEZONE
BEGIN:VEVENT
DTSTART;VALUE=DATE:20240815
DTEND;VALUE=DATE:20240816
DTSTAMP:20260419T184239
CREATED:20240809T210608Z
LAST-MODIFIED:20240809T210608Z
UID:10017501-1723680000-1723766399@www.folktalewinery.com
SUMMARY:Closed for Private Event
DESCRIPTION:
URL:https://www.folktalewinery.com/event/closed-for-private-event-5/
LOCATION:Folktale Winery\, 8940 Carmel Valley Road\, Carmel\, CA\, 93923\, United States
END:VEVENT
BEGIN:VEVENT
DTSTART;VALUE=DATE:20240816
DTEND;VALUE=DATE:20240817
DTSTAMP:20260419T184239
CREATED:20240806T195718Z
LAST-MODIFIED:20240806T195718Z
UID:10017495-1723766400-1723852799@www.folktalewinery.com
SUMMARY:Closed for Private Event
DESCRIPTION:
URL:https://www.folktalewinery.com/event/closed-for-private-event/
LOCATION:Folktale Winery\, 8940 Carmel Valley Road\, Carmel\, CA\, 93923\, United States
END:VEVENT
BEGIN:VEVENT
DTSTART;VALUE=DATE:20240817
DTEND;VALUE=DATE:20240818
DTSTAMP:20260419T184239
CREATED:20240806T195739Z
LAST-MODIFIED:20240806T195739Z
UID:10017496-1723852800-1723939199@www.folktalewinery.com
SUMMARY:Closed for Private Event
DESCRIPTION:
URL:https://www.folktalewinery.com/event/closed-for-private-event-2/
LOCATION:Folktale Winery\, 8940 Carmel Valley Road\, Carmel\, CA\, 93923\, United States
END:VEVENT
END:VCALENDAR