BEGIN:VCALENDAR
VERSION:2.0
PRODID:-//Folktale Winery &amp; Vineyard - ECPv6.15.20//NONSGML v1.0//EN
CALSCALE:GREGORIAN
METHOD:PUBLISH
X-ORIGINAL-URL:https://www.folktalewinery.com
X-WR-CALDESC:Events for Folktale Winery &amp; Vineyard
REFRESH-INTERVAL;VALUE=DURATION:PT1H
X-Robots-Tag:noindex
X-PUBLISHED-TTL:PT1H
BEGIN:VTIMEZONE
TZID:America/Vancouver
BEGIN:DAYLIGHT
TZOFFSETFROM:-0800
TZOFFSETTO:-0700
TZNAME:PDT
DTSTART:20230312T100000
END:DAYLIGHT
BEGIN:STANDARD
TZOFFSETFROM:-0700
TZOFFSETTO:-0800
TZNAME:PST
DTSTART:20231105T090000
END:STANDARD
BEGIN:DAYLIGHT
TZOFFSETFROM:-0800
TZOFFSETTO:-0700
TZNAME:PDT
DTSTART:20240310T100000
END:DAYLIGHT
BEGIN:STANDARD
TZOFFSETFROM:-0700
TZOFFSETTO:-0800
TZNAME:PST
DTSTART:20241103T090000
END:STANDARD
BEGIN:DAYLIGHT
TZOFFSETFROM:-0800
TZOFFSETTO:-0700
TZNAME:PDT
DTSTART:20250309T100000
END:DAYLIGHT
BEGIN:STANDARD
TZOFFSETFROM:-0700
TZOFFSETTO:-0800
TZNAME:PST
DTSTART:20251102T090000
END:STANDARD
END:VTIMEZONE
BEGIN:VEVENT
DTSTART;TZID=America/Vancouver:20241212T170000
DTEND;TZID=America/Vancouver:20241212T190000
DTSTAMP:20260422T020152
CREATED:20241115T175740Z
LAST-MODIFIED:20241115T175740Z
UID:10017795-1734022800-1734030000@www.folktalewinery.com
SUMMARY:The Art of Necklace-Making at The Annex
DESCRIPTION:Create a one-of-a-kind piece of jewelry during the Necklace Jewelry-Making Workshop\, led by the skilled Carrie of Nautilus & Sway. Design a keepsake or a gift for someone special as Carrie guides you through the art of necklace-making with premium materials. Choose between 14k gold fill or sterling silver\, and add a beautiful piece of sea glass for a truly unique touch. Space is limited—reserve your spot today!
URL:https://www.folktalewinery.com/event/the-art-of-necklace-making-at-the-annex/
LOCATION:The Annex\, 7th Avenue & Dolores St.\, Carmel-By-The-Sea\, CA\, 93921\, United States
END:VEVENT
END:VCALENDAR