BEGIN:VCALENDAR
VERSION:2.0
PRODID:-//Folktale Winery &amp; Vineyard - ECPv6.15.20//NONSGML v1.0//EN
CALSCALE:GREGORIAN
METHOD:PUBLISH
X-ORIGINAL-URL:https://www.folktalewinery.com
X-WR-CALDESC:Events for Folktale Winery &amp; Vineyard
REFRESH-INTERVAL;VALUE=DURATION:PT1H
X-Robots-Tag:noindex
X-PUBLISHED-TTL:PT1H
BEGIN:VTIMEZONE
TZID:America/Vancouver
BEGIN:DAYLIGHT
TZOFFSETFROM:-0800
TZOFFSETTO:-0700
TZNAME:PDT
DTSTART:20240310T100000
END:DAYLIGHT
BEGIN:STANDARD
TZOFFSETFROM:-0700
TZOFFSETTO:-0800
TZNAME:PST
DTSTART:20241103T090000
END:STANDARD
BEGIN:DAYLIGHT
TZOFFSETFROM:-0800
TZOFFSETTO:-0700
TZNAME:PDT
DTSTART:20250309T100000
END:DAYLIGHT
BEGIN:STANDARD
TZOFFSETFROM:-0700
TZOFFSETTO:-0800
TZNAME:PST
DTSTART:20251102T090000
END:STANDARD
BEGIN:DAYLIGHT
TZOFFSETFROM:-0800
TZOFFSETTO:-0700
TZNAME:PDT
DTSTART:20260308T100000
END:DAYLIGHT
BEGIN:STANDARD
TZOFFSETFROM:-0700
TZOFFSETTO:-0800
TZNAME:PST
DTSTART:20261101T090000
END:STANDARD
END:VTIMEZONE
BEGIN:VEVENT
DTSTART;TZID=America/Vancouver:20250720T100000
DTEND;TZID=America/Vancouver:20250720T110000
DTSTAMP:20260422T103739
CREATED:20250701T110057Z
LAST-MODIFIED:20260103T000841Z
UID:10017942-1753005600-1753009200@www.folktalewinery.com
SUMMARY:Yoga in the Vines
DESCRIPTION:Join us for an all-levels yoga class followed by a soul-nourishing sound bath meditation\, all set in our stunning vineyards. \nRegister today!
URL:https://www.folktalewinery.com/event/yoga-in-the-vines-2/2025-07-20/
LOCATION:Folktale Winery\, 8940 Carmel Valley Road\, Carmel\, CA\, 93923\, United States
END:VEVENT
BEGIN:VEVENT
DTSTART;TZID=America/Vancouver:20250720T110000
DTEND;TZID=America/Vancouver:20250720T130000
DTSTAMP:20260422T103739
CREATED:20250602T034613Z
LAST-MODIFIED:20250602T034613Z
UID:10017914-1753009200-1753016400@www.folktalewinery.com
SUMMARY:Monterey Jazz All-Stars
DESCRIPTION:Each Regional All-Star ensemble features talented students from across Monterey County. Our All-Star ensembles rehearse twice monthly while working on ensemble skills\, and in the summer\, they get to perform across Monterey County and far beyond\, testing their chops on the bandstand while bringing great jazz music to the community. They have performed at prestigious venues and festivals such as the Kennedy Center\, San Jose Jazz Fest\, Jazz on the Plazz\, Forest Theater in Carmel-by-the-Sea\, and Monterey Jazz Festival. \nLive music is complimentary to our guests to enjoy during your visit with us! Check out the full upcoming lineup.
URL:https://www.folktalewinery.com/event/monterey-jazz-all-stars/
LOCATION:Folktale Winery\, 8940 Carmel Valley Road\, Carmel\, CA\, 93923\, United States
END:VEVENT
BEGIN:VEVENT
DTSTART;TZID=America/Vancouver:20250721T170000
DTEND;TZID=America/Vancouver:20250721T190000
DTSTAMP:20260422T103739
CREATED:20250625T075248Z
LAST-MODIFIED:20250625T075248Z
UID:10017933-1753117200-1753124400@www.folktalewinery.com
SUMMARY:Daniel Cortes
DESCRIPTION:Daniel Cortès is a Monterey Bay-based multi-instrumentalist. Born and raised in Salinas\, Dan was curious about music at a young age. This disposition has led him on a continuous journey of exploration and growth – musically and personally. Dan’s primary style is acoustic-based\, emphasizing American roots and traditional Mexican music. He is currently working on his first major music streaming service release. \nLive music is complimentary to our guests to enjoy during your visit with us! Check out the full upcoming lineup.
URL:https://www.folktalewinery.com/event/daniel-cortes-4/
LOCATION:Folktale Winery\, 8940 Carmel Valley Road\, Carmel\, CA\, 93923\, United States
END:VEVENT
BEGIN:VEVENT
DTSTART;TZID=America/Vancouver:20250722T170000
DTEND;TZID=America/Vancouver:20250722T200000
DTSTAMP:20260422T103739
CREATED:20250708T170306Z
LAST-MODIFIED:20250821T215603Z
UID:10018205-1753203600-1753214400@www.folktalewinery.com
SUMMARY:Taco Tuesday
DESCRIPTION:Looking for the best Taco Tuesday in Carmel?\nJoin us every Tuesday evening from 5 to 8 PM at the Wine Garden at Folktale Winery for a flavorful night featuring rotating gourmet tacos\, refreshing house-made sangria\, and your favorite Folktale wines. \nRelax outdoors in Carmel Valley’s scenic Wine Garden while enjoying fresh flavors and live music. \nNo tickets required. 👉 Click here to make a reservation
URL:https://www.folktalewinery.com/event/taco-tuesday/2025-07-22/
LOCATION:CA
END:VEVENT
BEGIN:VEVENT
DTSTART;TZID=America/Vancouver:20250723T170000
DTEND;TZID=America/Vancouver:20250723T190000
DTSTAMP:20260422T103739
CREATED:20250701T042631Z
LAST-MODIFIED:20250701T042631Z
UID:10017938-1753290000-1753297200@www.folktalewinery.com
SUMMARY:Tim Brady
DESCRIPTION:Tim Brady is a singer/songwriter from the Monterey Bay area and leader of the locally award winning Santa Cruz band Cement Ship.  The acoustic guitar style\, singing tone and original songs from Tim seem to fit a wide array of crowds and genres\, but maintains a natural and stripped down approach for the sound.  Honest and raw\, sweet and smoky\, dynamic like the sea.  The band’s namesake is taken from local landmark the SS Palo Alto\, and the music has been described as ‘Americana Soul’ or ‘Beach Folk’. \nLive music is complimentary to our guests to enjoy during your visit with us! Check out the full upcoming lineup.
URL:https://www.folktalewinery.com/event/tim-brady-2/
LOCATION:Folktale Winery\, 8940 Carmel Valley Road\, Carmel\, CA\, 93923\, United States
END:VEVENT
BEGIN:VEVENT
DTSTART;TZID=America/Vancouver:20250724T170000
DTEND;TZID=America/Vancouver:20250724T190000
DTSTAMP:20260422T103739
CREATED:20250619T045547Z
LAST-MODIFIED:20250619T045547Z
UID:10017925-1753376400-1753383600@www.folktalewinery.com
SUMMARY:Two Rivers
DESCRIPTION:Two Rivers is the confluence of two musicians with diverse styles and backgrounds\, creating a lovely and lively blend of vocals and guitar. From inspired original tunes to covering rare gems\, Two Rivers is bound to keep you enthralled whenever you hear them. Richard Bryant’s musical career has many highlights\, including years of touring as a vocalist with such renowned groups as The Doobie Brothers and The Little River Band. Kyle Kovalik has had a lifelong love affair with the guitar. He was heavily involved in the Northwest music scene as a player and a music industry professional. \nLive music is complimentary to our guests to enjoy during your visit with us! Check out the full upcoming lineup.
URL:https://www.folktalewinery.com/event/two-rivers-6/
LOCATION:Folktale Winery\, 8940 Carmel Valley Road\, Carmel\, CA\, 93923\, United States
END:VEVENT
BEGIN:VEVENT
DTSTART;TZID=America/Vancouver:20250725T170000
DTEND;TZID=America/Vancouver:20250725T190000
DTSTAMP:20260422T103739
CREATED:20250602T034713Z
LAST-MODIFIED:20250619T044547Z
UID:10017915-1753462800-1753470000@www.folktalewinery.com
SUMMARY:Pruney and the Dude
DESCRIPTION:Pruney (Thomas Burks) and the Dude (Stephen Pavlik) have been making music together for over a year. Pruney and the Dude play various musical styles\, all based on their combined history. Pruney comes from West Texas\, so he leans a little on the countryside\, yet he grew up listening to the rock music of the 60s\, 70s\, and beyond. The Dude was born and raised in Pittsburgh\, Pa.\, and has been influenced by just about every musical genre\, including classical and jazz. Together\, they have a very eclectic portfolio of music from other artists and their compositions. \nLive music is complimentary to our guests to enjoy during your visit with us! Check out the full upcoming lineup.
URL:https://www.folktalewinery.com/event/pruney-and-the-dude-3/
LOCATION:Folktale Winery\, 8940 Carmel Valley Road\, Carmel\, CA\, 93923\, United States
END:VEVENT
BEGIN:VEVENT
DTSTART;TZID=America/Vancouver:20250726T140000
DTEND;TZID=America/Vancouver:20250726T160000
DTSTAMP:20260422T103739
CREATED:20250602T034924Z
LAST-MODIFIED:20250602T034924Z
UID:10017916-1753538400-1753545600@www.folktalewinery.com
SUMMARY:Kito Rayburn
DESCRIPTION:Kito Rayburn was born in Anthony\, NM\, and grew up in Monterey\, CA\, in a musical household that fostered his profound love for the craft. He has played music all of his life\, mainly in a support role\, as a bassist or a drummer\, but started writing his music when the pandemic hit. He draws from his experience playing in other bands and living in the desert and on the coast for his sound\, a blend of Indie\, Americana\, Folk\, and Rock. His songs are contemplative and self-reflective\, with relatable themes of change and a desire to be better for himself\, others\, and the world. \nLive music is complimentary to our guests to enjoy during your visit with us! Check out the full upcoming lineup.
URL:https://www.folktalewinery.com/event/kito-rayburn-8/
LOCATION:Folktale Winery\, 8940 Carmel Valley Road\, Carmel\, CA\, 93923\, United States
END:VEVENT
END:VCALENDAR