BEGIN:VCALENDAR
VERSION:2.0
PRODID:-//Folktale Winery &amp; Vineyard - ECPv6.15.20//NONSGML v1.0//EN
CALSCALE:GREGORIAN
METHOD:PUBLISH
X-ORIGINAL-URL:https://www.folktalewinery.com
X-WR-CALDESC:Events for Folktale Winery &amp; Vineyard
REFRESH-INTERVAL;VALUE=DURATION:PT1H
X-Robots-Tag:noindex
X-PUBLISHED-TTL:PT1H
BEGIN:VTIMEZONE
TZID:America/Vancouver
BEGIN:DAYLIGHT
TZOFFSETFROM:-0800
TZOFFSETTO:-0700
TZNAME:PDT
DTSTART:20240310T100000
END:DAYLIGHT
BEGIN:STANDARD
TZOFFSETFROM:-0700
TZOFFSETTO:-0800
TZNAME:PST
DTSTART:20241103T090000
END:STANDARD
BEGIN:DAYLIGHT
TZOFFSETFROM:-0800
TZOFFSETTO:-0700
TZNAME:PDT
DTSTART:20250309T100000
END:DAYLIGHT
BEGIN:STANDARD
TZOFFSETFROM:-0700
TZOFFSETTO:-0800
TZNAME:PST
DTSTART:20251102T090000
END:STANDARD
BEGIN:DAYLIGHT
TZOFFSETFROM:-0800
TZOFFSETTO:-0700
TZNAME:PDT
DTSTART:20260308T100000
END:DAYLIGHT
BEGIN:STANDARD
TZOFFSETFROM:-0700
TZOFFSETTO:-0800
TZNAME:PST
DTSTART:20261101T090000
END:STANDARD
END:VTIMEZONE
BEGIN:VEVENT
DTSTART;TZID=America/Vancouver:20250921T100000
DTEND;TZID=America/Vancouver:20250921T110000
DTSTAMP:20260425T080740
CREATED:20250701T110057Z
LAST-MODIFIED:20260103T000841Z
UID:10017951-1758448800-1758452400@www.folktalewinery.com
SUMMARY:Yoga in the Vines
DESCRIPTION:Join us for an all-levels yoga class followed by a soul-nourishing sound bath meditation\, all set in our stunning vineyards. \nRegister today!
URL:https://www.folktalewinery.com/event/yoga-in-the-vines-2/2025-09-21/
LOCATION:Folktale Winery\, 8940 Carmel Valley Road\, Carmel\, CA\, 93923\, United States
END:VEVENT
BEGIN:VEVENT
DTSTART;TZID=America/Vancouver:20250922T170000
DTEND;TZID=America/Vancouver:20250922T190000
DTSTAMP:20260425T080740
CREATED:20250902T043409Z
LAST-MODIFIED:20250902T043409Z
UID:10018539-1758560400-1758567600@www.folktalewinery.com
SUMMARY:Lindsey Wall
DESCRIPTION:Lindsey Wall is an Indie Folk Singer-Songwriter from Santa Cruz\, California. She was first inspired to write her songs by older folk songwriters like Bob Dylan and Neil Young\, but she pulls from whatever stokes a chord within her. Her songs tend to be lyrically driven by a heavy dose of emotion. \nLive music is complimentary to our guests to enjoy during your visit with us! Check out the full upcoming lineup.
URL:https://www.folktalewinery.com/event/lindsey-wall-5/
LOCATION:Folktale Winery\, 8940 Carmel Valley Road\, Carmel\, CA\, 93923\, United States
END:VEVENT
BEGIN:VEVENT
DTSTART;TZID=America/Vancouver:20250923T150000
DTEND;TZID=America/Vancouver:20250923T170000
DTSTAMP:20260425T080740
CREATED:20250922T073639Z
LAST-MODIFIED:20250922T073639Z
UID:10018550-1758639600-1758646800@www.folktalewinery.com
SUMMARY:Trianna Feruza
DESCRIPTION:Trianna is a singer-songwriter out of Santa Cruz\, blending smooth R&B vibes with a Pop-Funk edge. Think Erykah Badu meets Amy Winehouse with a fresh twist. Growing up in a family of folk and World music\, she brings a unique flavor to everything she touches—soulful\, engaging\, and always groovy. \nLive music is complimentary to our guests to enjoy during your visit with us! Check out the full upcoming lineup.
URL:https://www.folktalewinery.com/event/trianna-feruza-2/
LOCATION:Folktale Winery\, 8940 Carmel Valley Road\, Carmel\, CA\, 93923\, United States
END:VEVENT
BEGIN:VEVENT
DTSTART;TZID=America/Vancouver:20250923T170000
DTEND;TZID=America/Vancouver:20250923T200000
DTSTAMP:20260425T080740
CREATED:20250708T170306Z
LAST-MODIFIED:20250821T215603Z
UID:10018214-1758646800-1758657600@www.folktalewinery.com
SUMMARY:Taco Tuesday
DESCRIPTION:Looking for the best Taco Tuesday in Carmel?\nJoin us every Tuesday evening from 5 to 8 PM at the Wine Garden at Folktale Winery for a flavorful night featuring rotating gourmet tacos\, refreshing house-made sangria\, and your favorite Folktale wines. \nRelax outdoors in Carmel Valley’s scenic Wine Garden while enjoying fresh flavors and live music. \nNo tickets required. 👉 Click here to make a reservation
URL:https://www.folktalewinery.com/event/taco-tuesday/2025-09-23/
LOCATION:CA
END:VEVENT
BEGIN:VEVENT
DTSTART;TZID=America/Vancouver:20250924T170000
DTEND;TZID=America/Vancouver:20250924T190000
DTSTAMP:20260425T080740
CREATED:20250902T043448Z
LAST-MODIFIED:20250902T043448Z
UID:10018540-1758733200-1758740400@www.folktalewinery.com
SUMMARY:RJ DeMarco
DESCRIPTION:RJ is a versatile multi-instrumentalist and producer who seamlessly blends live performance with innovative production techniques. Drawing from over 20 years of musical experience\, RJ creates dynamic soundscapes by expertly weaving together saxophone\, guitar\, keyboards\, and vocals through live looping technology. Originally from Buffalo\, New York\, and now based in Monterey\, California\, RJ has developed a unique artistic voice that bridges the gap between traditional instrumentation and modern production method. \nLive music is complimentary to our guests to enjoy during your visit with us! Check out the full upcoming lineup.
URL:https://www.folktalewinery.com/event/rj-demarco-4/
LOCATION:Folktale Winery\, 8940 Carmel Valley Road\, Carmel\, CA\, 93923\, United States
END:VEVENT
BEGIN:VEVENT
DTSTART;TZID=America/Vancouver:20250925T140000
DTEND;TZID=America/Vancouver:20250925T160000
DTSTAMP:20260425T080740
CREATED:20250902T043535Z
LAST-MODIFIED:20250902T043535Z
UID:10018541-1758808800-1758816000@www.folktalewinery.com
SUMMARY:Sabelle
DESCRIPTION:Sabelle is a radiant young singer-songwriter residing in Monterey Bay. With a captivatingly gentle voice that effortlessly pulls you into her world\, she’s enchanted audiences across the Peninsula with her soulful performances. Her music is a heartfelt homage to the golden era of the 1960s and 70s while also taking inspiration from Iris Dement’s timeless folk melodies and John Mayer’s lyrical pop tracks. Last November marked a milestone in her musical journey as she unveiled her debut single\, “Tainted\,” on Spotify\, offering listeners a glimpse into her artistry. Discover Sabelle as a musical storyteller and a poetess of sound\, immersed in evocative and colorful ballads\, and let her music illuminate your soul. \nLive music is complimentary to our guests to enjoy during your visit with us! Check out the full upcoming lineup.
URL:https://www.folktalewinery.com/event/sabelle/
LOCATION:Folktale Winery\, 8940 Carmel Valley Road\, Carmel\, CA\, 93923\, United States
END:VEVENT
BEGIN:VEVENT
DTSTART;TZID=America/Vancouver:20250925T173000
DTEND;TZID=America/Vancouver:20250925T200000
DTSTAMP:20260425T080740
CREATED:20250815T191744Z
LAST-MODIFIED:20250815T191744Z
UID:10018512-1758821400-1758830400@www.folktalewinery.com
SUMMARY:WINE GARDEN CLOSED
DESCRIPTION:Wine Garden will be CLOSED for the Candlelit Concert: Tribute to The Beatles! \nSnag your ticket here before they’re gone! 👉 Click to grab yours
URL:https://www.folktalewinery.com/event/wine-garden-closed-5/
LOCATION:Folktale Winery\, 8940 Carmel Valley Road\, Carmel\, CA\, 93923\, United States
END:VEVENT
BEGIN:VEVENT
DTSTART;TZID=America/Vancouver:20250925T190000
DTEND;TZID=America/Vancouver:20250925T220000
DTSTAMP:20260425T080740
CREATED:20250806T062725Z
LAST-MODIFIED:20250806T062725Z
UID:10018504-1758826800-1758837600@www.folktalewinery.com
SUMMARY:Candlelit Concert: Tribute to The Beatles
DESCRIPTION:Don’t miss a night that promises magic\, music\, and memories. On Thursday\, September 25th\, experience the timeless songs of The Beatles like never before\, as the Monterey String Quartet reimagines their greatest hits in a candlelit performance under the stars. \nDoors open at 7:00 PM\, with the performance starting at 8:00 PM\, allowing you plenty of time to settle in and take in the ambiance. Food and drinks will be available for purchase\, with the added convenience of table service right at your seat. \n\nSnag your ticket here before they’re gone! 👉 Click to grab yours \n\nFolktale Wine Clubs get an exclusive ticket discount! Not a member? Click here to join the club!
URL:https://www.folktalewinery.com/event/candlelit-concert-tribute-to-the-beatles/
LOCATION:Folktale Winery\, 8940 Carmel Valley Road\, Carmel\, CA\, 93923\, United States
END:VEVENT
BEGIN:VEVENT
DTSTART;TZID=America/Vancouver:20250926T110000
DTEND;TZID=America/Vancouver:20250926T130000
DTSTAMP:20260425T080740
CREATED:20250908T190223Z
LAST-MODIFIED:20250915T174451Z
UID:10018549-1758884400-1758891600@www.folktalewinery.com
SUMMARY:Monterey Jazz Festival Kickoff: TSU & NCCU Jazz Ensembles
DESCRIPTION:As proud sponsors\, we are excited to kick off the start of the Monterey Jazz Festival with a special performance by Texas Southern University and North Carolina Central University! \nMusic is complimentary for our guests to enjoy during your visit with us; reservations recommended.
URL:https://www.folktalewinery.com/event/monterey-jazz-ensemble/
LOCATION:Folktale Winery\, 8940 Carmel Valley Road\, Carmel\, CA\, 93923\, United States
END:VEVENT
BEGIN:VEVENT
DTSTART;TZID=America/Vancouver:20250926T170000
DTEND;TZID=America/Vancouver:20250926T190000
DTSTAMP:20260425T080740
CREATED:20250902T043636Z
LAST-MODIFIED:20250902T043636Z
UID:10018542-1758906000-1758913200@www.folktalewinery.com
SUMMARY:Tim Brady
DESCRIPTION:Tim Brady is a singer/songwriter from the Monterey Bay area and leader of the locally award winning Santa Cruz band Cement Ship.  The acoustic guitar style\, singing tone and original songs from Tim seem to fit a wide array of crowds and genres\, but maintains a natural and stripped down approach for the sound.  Honest and raw\, sweet and smoky\, dynamic like the sea.  The band’s namesake is taken from local landmark the SS Palo Alto\, and the music has been described as ‘Americana Soul’ or ‘Beach Folk’. \nLive music is complimentary to our guests to enjoy during your visit with us! Check out the full upcoming lineup.
URL:https://www.folktalewinery.com/event/tim-brady-5/
LOCATION:Folktale Winery\, 8940 Carmel Valley Road\, Carmel\, CA\, 93923\, United States
END:VEVENT
BEGIN:VEVENT
DTSTART;TZID=America/Vancouver:20250927T170000
DTEND;TZID=America/Vancouver:20250927T190000
DTSTAMP:20260425T080740
CREATED:20250902T043716Z
LAST-MODIFIED:20250902T043716Z
UID:10018543-1758992400-1758999600@www.folktalewinery.com
SUMMARY:Jacob Chase
DESCRIPTION:Salinas natives Jacob Chase and company bring a warm-spirited and bashful tone within free-spirited lyricism and powerful vocals. Kito Rayburn (Bassist)\, Alex Bezdjian (Guitar)\, Matthew Gonzales-Butorac (Keys/Mixer)\, and Adam Renteria (Drums) build a folk-derived\, upbeat sound that resonates with all ages. Inspired by authentic Soul/Blues/R&B/Folk music the Dead Cassette sound has molded its way into modern Indie/Alternative sonics all while making a valiant representation of those classic sounds we all know and love. \nLive music is complimentary to our guests to enjoy during your visit with us! Check out the full upcoming lineup.
URL:https://www.folktalewinery.com/event/jacob-chase-8/
LOCATION:Folktale Winery\, 8940 Carmel Valley Road\, Carmel\, CA\, 93923\, United States
END:VEVENT
END:VCALENDAR