BEGIN:VCALENDAR
VERSION:2.0
PRODID:-//Folktale Winery &amp; Vineyard - ECPv6.15.20//NONSGML v1.0//EN
CALSCALE:GREGORIAN
METHOD:PUBLISH
X-ORIGINAL-URL:https://www.folktalewinery.com
X-WR-CALDESC:Events for Folktale Winery &amp; Vineyard
REFRESH-INTERVAL;VALUE=DURATION:PT1H
X-Robots-Tag:noindex
X-PUBLISHED-TTL:PT1H
BEGIN:VTIMEZONE
TZID:America/Vancouver
BEGIN:DAYLIGHT
TZOFFSETFROM:-0800
TZOFFSETTO:-0700
TZNAME:PDT
DTSTART:20240310T100000
END:DAYLIGHT
BEGIN:STANDARD
TZOFFSETFROM:-0700
TZOFFSETTO:-0800
TZNAME:PST
DTSTART:20241103T090000
END:STANDARD
BEGIN:DAYLIGHT
TZOFFSETFROM:-0800
TZOFFSETTO:-0700
TZNAME:PDT
DTSTART:20250309T100000
END:DAYLIGHT
BEGIN:STANDARD
TZOFFSETFROM:-0700
TZOFFSETTO:-0800
TZNAME:PST
DTSTART:20251102T090000
END:STANDARD
BEGIN:DAYLIGHT
TZOFFSETFROM:-0800
TZOFFSETTO:-0700
TZNAME:PDT
DTSTART:20260308T100000
END:DAYLIGHT
BEGIN:STANDARD
TZOFFSETFROM:-0700
TZOFFSETTO:-0800
TZNAME:PST
DTSTART:20261101T090000
END:STANDARD
END:VTIMEZONE
BEGIN:VEVENT
DTSTART;TZID=America/Vancouver:20250928T100000
DTEND;TZID=America/Vancouver:20250928T110000
DTSTAMP:20260425T041910
CREATED:20250701T110057Z
LAST-MODIFIED:20260103T000841Z
UID:10017952-1759053600-1759057200@www.folktalewinery.com
SUMMARY:Yoga in the Vines
DESCRIPTION:Join us for an all-levels yoga class followed by a soul-nourishing sound bath meditation\, all set in our stunning vineyards. \nRegister today!
URL:https://www.folktalewinery.com/event/yoga-in-the-vines-2/2025-09-28/
LOCATION:Folktale Winery\, 8940 Carmel Valley Road\, Carmel\, CA\, 93923\, United States
END:VEVENT
BEGIN:VEVENT
DTSTART;TZID=America/Vancouver:20250929T170000
DTEND;TZID=America/Vancouver:20250929T190000
DTSTAMP:20260425T041910
CREATED:20250902T043948Z
LAST-MODIFIED:20250902T043948Z
UID:10018544-1759165200-1759172400@www.folktalewinery.com
SUMMARY:Kito Rayburn
DESCRIPTION:Kito Rayburn was born in Anthony\, NM\, and grew up in Monterey\, CA\, in a musical household that fostered his profound love for the craft. He has played music all of his life\, mainly in a support role\, as a bassist or a drummer\, but started writing his music when the pandemic hit. He draws from his experience playing in other bands and living in the desert and on the coast for his sound\, a blend of Indie\, Americana\, Folk\, and Rock. His songs are contemplative and self-reflective\, with relatable themes of change and a desire to be better for himself\, others\, and the world. \nLive music is complimentary to our guests to enjoy during your visit with us! Check out the full upcoming lineup.
URL:https://www.folktalewinery.com/event/kito-rayburn-15/
LOCATION:Folktale Winery\, 8940 Carmel Valley Road\, Carmel\, CA\, 93923\, United States
END:VEVENT
BEGIN:VEVENT
DTSTART;TZID=America/Vancouver:20250930T150000
DTEND;TZID=America/Vancouver:20250930T200000
DTSTAMP:20260425T041910
CREATED:20250815T191911Z
LAST-MODIFIED:20250815T191911Z
UID:10018513-1759244400-1759262400@www.folktalewinery.com
SUMMARY:WINE GARDEN CLOSED
DESCRIPTION:Wine Garden will be CLOSED for the Wine Country Concert: John Morgan! \nSnag your ticket here before they’re gone! 👉 Click to grab yours
URL:https://www.folktalewinery.com/event/wine-garden-closed-6/
LOCATION:Folktale Winery\, 8940 Carmel Valley Road\, Carmel\, CA\, 93923\, United States
END:VEVENT
BEGIN:VEVENT
DTSTART;TZID=America/Vancouver:20250930T170000
DTEND;TZID=America/Vancouver:20250930T210000
DTSTAMP:20260425T041910
CREATED:20250814T075524Z
LAST-MODIFIED:20250814T075701Z
UID:10018507-1759251600-1759266000@www.folktalewinery.com
SUMMARY:Wine Country Concert: John Morgan
DESCRIPTION:Get ready for an unforgettable evening of music\, food\, and wine on Tuesday\, September 30th\, at the Wine Garden\, as Folktale Winery and 92.7 KTOM Radio proudly present John Morgan! \nJohn Morgan\, whose hit “Friends Like That” featuring Jason Aldean has already racked up over 12.5 million streams\, has quickly emerged as a standout songwriter and performer. He has opened for Ernest\, Riley Green\, Jameson Rodgers\, Conner Smith\, Rodney Atkins\, and Aldean himself on the sold-out Rock N Roll Cowboy tour. Aldean\, who recorded 16 of John’s songs\, also co-produced John’s EP title track along with “Ain’t Been There Yet” and “Friends Like That.” \nWhat truly sets John apart is his authenticity. From the summer-ready “Won’t Be as Good” to the George Strait-inspired “Cold in Summer in San Antone\,” his songs are relatable slices of life\, delivered with unassuming intellect and genuine country charm. From his bluegrass beginnings in Sylva\, NC\, to a chance encounter with a songwriter-turned-Uber driver that led to Aldean discovering him\, John has penned hits for Jon Pardi\, Thomas Rhett\, and others\, all while building a growing catalog of songs under his own name. Meticulous about capturing the spirit of each track in the studio\, his debut EP is the culmination of years of songwriting\, performance\, and heart\, an invitation for fans to experience him as an artist\, not just a songwriter. \nJohn continues to expand his sound with heartfelt releases like Carolina Blue and his latest single\, “Kid Myself”\, songs that showcase his ability to blend introspective lyricism with infectious hooks. His true strength lies in his authenticity. He writes songs that feel like moments shared over a beer\, pairing thoughtful storytelling with down-to-earth country charm. \nOur doors will open at 5:00 PM\, and the show will begin at 6:00 PM. \nEnjoy table service and a curated selection of food and drinks available for purchase from your reserved seat. \nListen on Spotify \n\nSnag your ticket here before they’re gone! 👉 Click to grab yours \n\nFolktale Wine Clubs get an exclusive ticket discount! Not a member? Click here to join the club! \n 
URL:https://www.folktalewinery.com/event/storytelling-series-pour-tell-2/
LOCATION:Folktale Winery\, 8940 Carmel Valley Road\, Carmel\, CA\, 93923\, United States
END:VEVENT
BEGIN:VEVENT
DTSTART;TZID=America/Vancouver:20251001T170000
DTEND;TZID=America/Vancouver:20251001T190000
DTSTAMP:20260425T041910
CREATED:20250927T195205Z
LAST-MODIFIED:20250927T195205Z
UID:10018551-1759338000-1759345200@www.folktalewinery.com
SUMMARY:Two Rivers
DESCRIPTION:Two Rivers is the confluence of two musicians with diverse styles and backgrounds\, creating a lovely and lively blend of vocals and guitar. From inspired original tunes to covering rare gems\, Two Rivers is bound to keep you enthralled whenever you hear them. Richard Bryant’s musical career has many highlights\, including years of touring as a vocalist with such renowned groups as The Doobie Brothers and The Little River Band. Kyle Kovalik has had a lifelong love affair with the guitar. He was heavily involved in the Northwest music scene as a player and a music industry professional. \nMusic is complimentary for our guests to enjoy during your visit with us; reservations recommended! Check out the full upcoming lineup.
URL:https://www.folktalewinery.com/event/two-rivers-9/
LOCATION:Folktale Winery\, 8940 Carmel Valley Road\, Carmel\, CA\, 93923\, United States
END:VEVENT
BEGIN:VEVENT
DTSTART;TZID=America/Vancouver:20251002T170000
DTEND;TZID=America/Vancouver:20251002T190000
DTSTAMP:20260425T041910
CREATED:20250927T195240Z
LAST-MODIFIED:20250927T195240Z
UID:10018552-1759424400-1759431600@www.folktalewinery.com
SUMMARY:Lindsey Wall
DESCRIPTION:Lindsey Wall is an Indie Folk Singer-Songwriter from Santa Cruz\, California. She was first inspired to write her songs by older folk songwriters like Bob Dylan and Neil Young\, but she pulls from whatever stokes a chord within her. Her songs tend to be lyrically driven by a heavy dose of emotion. \nMusic is complimentary for our guests to enjoy during your visit with us; reservations recommended! Check out the full upcoming lineup.
URL:https://www.folktalewinery.com/event/lindsey-wall-6/
LOCATION:Folktale Winery\, 8940 Carmel Valley Road\, Carmel\, CA\, 93923\, United States
END:VEVENT
BEGIN:VEVENT
DTSTART;TZID=America/Vancouver:20251003T170000
DTEND;TZID=America/Vancouver:20251003T190000
DTSTAMP:20260425T041910
CREATED:20250927T195312Z
LAST-MODIFIED:20250927T195312Z
UID:10018553-1759510800-1759518000@www.folktalewinery.com
SUMMARY:RJ DeMarco
DESCRIPTION:RJ is a versatile multi-instrumentalist and producer who seamlessly blends live performance with innovative production techniques. Drawing from over 20 years of musical experience\, RJ creates dynamic soundscapes by expertly weaving together saxophone\, guitar\, keyboards\, and vocals through live looping technology. Originally from Buffalo\, New York\, and now based in Monterey\, California\, RJ has developed a unique artistic voice that bridges the gap between traditional instrumentation and modern production method. \nMusic is complimentary for our guests to enjoy during your visit with us; reservations recommended! Check out the full upcoming lineup.
URL:https://www.folktalewinery.com/event/rj-demarco-5/
LOCATION:Folktale Winery\, 8940 Carmel Valley Road\, Carmel\, CA\, 93923\, United States
END:VEVENT
BEGIN:VEVENT
DTSTART;TZID=America/Vancouver:20251004T170000
DTEND;TZID=America/Vancouver:20251004T190000
DTSTAMP:20260425T041910
CREATED:20250927T195340Z
LAST-MODIFIED:20250929T172918Z
UID:10018554-1759597200-1759604400@www.folktalewinery.com
SUMMARY:Daniel Cortes
DESCRIPTION:Daniel Cortès is a Monterey Bay-based multi-instrumentalist. Born and raised in Salinas\, Dan was curious about music at a young age. This disposition has led him on a continuous journey of exploration and growth – musically and personally. Dan’s primary style is acoustic-based\, emphasizing American roots and traditional Mexican music. He is currently working on his first major music streaming service release. \nMusic is complimentary for our guests to enjoy during your visit with us; reservations recommended! Check out the full upcoming lineup.
URL:https://www.folktalewinery.com/event/daniel-cortes-9/
LOCATION:Folktale Winery\, 8940 Carmel Valley Road\, Carmel\, CA\, 93923\, United States
END:VEVENT
END:VCALENDAR