BEGIN:VCALENDAR
VERSION:2.0
PRODID:-//Folktale Winery &amp; Vineyard - ECPv6.15.20//NONSGML v1.0//EN
CALSCALE:GREGORIAN
METHOD:PUBLISH
X-WR-CALNAME:Folktale Winery &amp; Vineyard
X-ORIGINAL-URL:https://www.folktalewinery.com
X-WR-CALDESC:Events for Folktale Winery &amp; Vineyard
REFRESH-INTERVAL;VALUE=DURATION:PT1H
X-Robots-Tag:noindex
X-PUBLISHED-TTL:PT1H
BEGIN:VTIMEZONE
TZID:America/Vancouver
BEGIN:DAYLIGHT
TZOFFSETFROM:-0800
TZOFFSETTO:-0700
TZNAME:PDT
DTSTART:20240310T100000
END:DAYLIGHT
BEGIN:STANDARD
TZOFFSETFROM:-0700
TZOFFSETTO:-0800
TZNAME:PST
DTSTART:20241103T090000
END:STANDARD
BEGIN:DAYLIGHT
TZOFFSETFROM:-0800
TZOFFSETTO:-0700
TZNAME:PDT
DTSTART:20250309T100000
END:DAYLIGHT
BEGIN:STANDARD
TZOFFSETFROM:-0700
TZOFFSETTO:-0800
TZNAME:PST
DTSTART:20251102T090000
END:STANDARD
BEGIN:DAYLIGHT
TZOFFSETFROM:-0800
TZOFFSETTO:-0700
TZNAME:PDT
DTSTART:20260308T100000
END:DAYLIGHT
BEGIN:STANDARD
TZOFFSETFROM:-0700
TZOFFSETTO:-0800
TZNAME:PST
DTSTART:20261101T090000
END:STANDARD
END:VTIMEZONE
BEGIN:VEVENT
DTSTART;TZID=America/Vancouver:20251019T100000
DTEND;TZID=America/Vancouver:20251019T110000
DTSTAMP:20260425T064712
CREATED:20250701T110057Z
LAST-MODIFIED:20260103T000841Z
UID:10017955-1760868000-1760871600@www.folktalewinery.com
SUMMARY:Yoga in the Vines
DESCRIPTION:Join us for an all-levels yoga class followed by a soul-nourishing sound bath meditation\, all set in our stunning vineyards. \nRegister today!
URL:https://www.folktalewinery.com/event/yoga-in-the-vines-2/2025-10-19/
LOCATION:Folktale Winery\, 8940 Carmel Valley Road\, Carmel\, CA\, 93923\, United States
END:VEVENT
BEGIN:VEVENT
DTSTART;TZID=America/Vancouver:20251019T110000
DTEND;TZID=America/Vancouver:20251019T130000
DTSTAMP:20260425T064713
CREATED:20250927T201854Z
LAST-MODIFIED:20250927T201854Z
UID:10018568-1760871600-1760878800@www.folktalewinery.com
SUMMARY:Jesse DeCarlo Funk Trio
DESCRIPTION:Jesse DeCarlo is a Monterey native and has been a fixture on the local music scene for many years. He has played guitar and bass with well-known local artists\, including Dani Paige\, Jim Payne\, Al James\, Minor Williams\, Malinda DeRouen\, and more. Jesse will perform a mix of instrumental jazz and funk with a stellar lineup of local performers. \nMusic is complimentary for our guests to enjoy during your visit with us; reservations recommended! Check out the full upcoming lineup.
URL:https://www.folktalewinery.com/event/jesse-decarlo-funk-trio/
LOCATION:Folktale Winery\, 8940 Carmel Valley Road\, Carmel\, CA\, 93923\, United States
END:VEVENT
BEGIN:VEVENT
DTSTART;TZID=America/Vancouver:20251019T160000
DTEND;TZID=America/Vancouver:20251019T200000
DTSTAMP:20260425T064713
CREATED:20250929T075924Z
LAST-MODIFIED:20250929T075924Z
UID:10018582-1760889600-1760904000@www.folktalewinery.com
SUMMARY:SF Comedy Competition: Passing the Crown
DESCRIPTION:The laughs don’t stop when comedy royalty takes the stage! Join us for Passing the Crown\, where two champions of the legendary San Francisco Comedy Competition co-headline one unforgettable evening! \n2024 Champ Frankie Marcos: Originally from San Jose\, CA\, Frankie is now an international headliner performing across the US\, Canada\, Australia\, the UK\, and Asia. Based between the Bay Area and Los Angeles\, he’s a regular on Don’t Tell Comedy and Chocolate Sundaes at the Laugh Factory in Hollywood\, and has shared the stage with Taylor Tomlinson\, Michael Che\, Nicole Byer\, and more. His festival credits include the New York Comedy Festival\, SF Sketchfest\, Melbourne International Comedy Festival\, and Edinburgh Fringe. \n2025 Champ Shawn Felipe: Hailing from Honolulu\, Hawaii\, and now based in San Francisco\, Shawn is a versatile entertainer known for his clever\, laconic storytelling that resonates with audiences worldwide. He has performed across the globe from the USA to Singapore\, Canada\, Japan\, Korea\, and the Middle East\, and at colleges\, corporate events\, U.S. military shows\, Norwegian cruises\, and comedy tours\, including comedian JOKOY’s 2017 tour. Shawn has earned nominations for Best New Artist in the Hawaii Music Awards and Best Take Out Comic in Hawaii\, and was named one of the top seven comics at the 36th Annual San Francisco International Comedy Competition. His work has appeared on WorldAsia TV\, TFC Channel\, Sprint Comedy\, Time Network\, and National Lampoon’s Comedy Radio\, and he has guest-starred on NBC’s Hawaii\, national commercials\, and The Great Food Truck Race. Fans can also look forward to his upcoming comedy special\, Man Baby\, on DryBar Comedy. \nHosted by Jalisa Robinson: A stand-up comedian and writer whose comedy is smart\, sharp\, and hilarious. Jalisa placed third in the 2025 San Francisco International Comedy Competition and was a featured performer at the Netflix Is a Joke Comedy Festival (2024). She has opened for Hannibal Buress and W. Kamau Bell\, delivering comedy that’s political without being preachy\, personal without being indulgent\, and always sharper than the patriarchy’s haircut. \nDon’t miss this rare chance to see comedy’s next legends share the stage for one epic night of laughs. Stick around after the show for “one for the road”\, where you can meet the acts\, take photos\, and share a laugh with the champions themselves. \n*Doors open at 4 PM | Show kicks off at 5 PM \nSnag your ticket here before they’re gone! 👉 Click to grab yours \n\nFolktale Wine Clubs get an exclusive ticket discount! Not a member? Click here to join the club!
URL:https://www.folktalewinery.com/event/sf-comedy-competition-passing-the-crown/
LOCATION:Folktale Winery\, 8940 Carmel Valley Road\, Carmel\, CA\, 93923\, United States
END:VEVENT
BEGIN:VEVENT
DTSTART;TZID=America/Vancouver:20251020T170000
DTEND;TZID=America/Vancouver:20251020T190000
DTSTAMP:20260425T064713
CREATED:20250927T201921Z
LAST-MODIFIED:20250927T201921Z
UID:10018569-1760979600-1760986800@www.folktalewinery.com
SUMMARY:Trianna Feruza
DESCRIPTION:Trianna is a singer-songwriter out of Santa Cruz\, blending smooth R&B vibes with a Pop-Funk edge. Think Erykah Badu meets Amy Winehouse with a fresh twist. Growing up in a family of folk and World music\, she brings a unique flavor to everything she touches—soulful\, engaging\, and always groovy. \nMusic is complimentary for our guests to enjoy during your visit with us; reservations recommended! Check out the full upcoming lineup.
URL:https://www.folktalewinery.com/event/trianna-feruza-4/
LOCATION:Folktale Winery\, 8940 Carmel Valley Road\, Carmel\, CA\, 93923\, United States
END:VEVENT
BEGIN:VEVENT
DTSTART;TZID=America/Vancouver:20251021T170000
DTEND;TZID=America/Vancouver:20251021T190000
DTSTAMP:20260425T064713
CREATED:20251003T214736Z
LAST-MODIFIED:20251003T214736Z
UID:10018588-1761066000-1761073200@www.folktalewinery.com
SUMMARY:Raison d'etre
DESCRIPTION:Raison d’etre (Thomas Burks & Stephen Pavlik) has been making music together for over a year. They play various musical styles\, all based on their combined history. Thomas comes from West Texas\, so he leans a little on the countryside\, yet he grew up listening to the rock music of the 60s\, 70s\, and beyond. Stephen was born and raised in Pittsburgh\, Pa.\, and has been influenced by just about every musical genre\, including classical and jazz. Together\, they have a very eclectic portfolio of music from other artists and their compositions. \nMusic is complimentary for our guests to enjoy during your visit with us; reservations recommended! Check out the full upcoming lineup.
URL:https://www.folktalewinery.com/event/raison-detre-2/
LOCATION:Folktale Winery\, 8940 Carmel Valley Road\, Carmel\, CA\, 93923\, United States
END:VEVENT
BEGIN:VEVENT
DTSTART;TZID=America/Vancouver:20251021T170000
DTEND;TZID=America/Vancouver:20251021T200000
DTSTAMP:20260425T064713
CREATED:20250708T170306Z
LAST-MODIFIED:20250821T215603Z
UID:10018218-1761066000-1761076800@www.folktalewinery.com
SUMMARY:Taco Tuesday
DESCRIPTION:Looking for the best Taco Tuesday in Carmel?\nJoin us every Tuesday evening from 5 to 8 PM at the Wine Garden at Folktale Winery for a flavorful night featuring rotating gourmet tacos\, refreshing house-made sangria\, and your favorite Folktale wines. \nRelax outdoors in Carmel Valley’s scenic Wine Garden while enjoying fresh flavors and live music. \nNo tickets required. 👉 Click here to make a reservation
URL:https://www.folktalewinery.com/event/taco-tuesday/2025-10-21/
LOCATION:CA
END:VEVENT
BEGIN:VEVENT
DTSTART;TZID=America/Vancouver:20251022T170000
DTEND;TZID=America/Vancouver:20251022T190000
DTSTAMP:20260425T064713
CREATED:20250927T202141Z
LAST-MODIFIED:20250927T202141Z
UID:10018571-1761152400-1761159600@www.folktalewinery.com
SUMMARY:Tim Brady
DESCRIPTION:Tim Brady is a singer/songwriter from the Monterey Bay area and leader of the locally award winning Santa Cruz band Cement Ship.  The acoustic guitar style\, singing tone and original songs from Tim seem to fit a wide array of crowds and genres\, but maintains a natural and stripped down approach for the sound.  Honest and raw\, sweet and smoky\, dynamic like the sea.  The band’s namesake is taken from local landmark the SS Palo Alto\, and the music has been described as ‘Americana Soul’ or ‘Beach Folk’. \nMusic is complimentary for our guests to enjoy during your visit with us; reservations recommended! Check out the full upcoming lineup.
URL:https://www.folktalewinery.com/event/tim-brady-7/
LOCATION:Folktale Winery\, 8940 Carmel Valley Road\, Carmel\, CA\, 93923\, United States
END:VEVENT
BEGIN:VEVENT
DTSTART;TZID=America/Vancouver:20251023T140000
DTEND;TZID=America/Vancouver:20251023T160000
DTSTAMP:20260425T064713
CREATED:20250927T202206Z
LAST-MODIFIED:20251008T195716Z
UID:10018572-1761228000-1761235200@www.folktalewinery.com
SUMMARY:Rory Lynch
DESCRIPTION:Rory Lynch is a singer/songwriter\, multi-instrumentalist\, and composer in Santa Cruz\, CA. He migrated to the West Coast after a stint in NYC\, headlining shows at venues like The Bitter End and Pianos. His decision to move inspired a new collection of songs showcasing classic genres like country\, jazz\, and pop while blending in traditional Americana themes. Rory’s smooth\, deep croon harkens back to the first days of Country Folk and fits nicely next to modern artists like Orville Peck and Sturgill Simpson. Recently\, he has been recording at Wind River Studios with plans to release his debut full-length album in Spring 2022. \nMusic is complimentary for our guests to enjoy during your visit with us; reservations recommended! Check out the full upcoming lineup.
URL:https://www.folktalewinery.com/event/rory-lynch-14/
LOCATION:Folktale Winery\, 8940 Carmel Valley Road\, Carmel\, CA\, 93923\, United States
END:VEVENT
BEGIN:VEVENT
DTSTART;TZID=America/Vancouver:20251023T180000
DTEND;TZID=America/Vancouver:20251023T203000
DTSTAMP:20260425T064713
CREATED:20251008T200050Z
LAST-MODIFIED:20251008T200050Z
UID:10018589-1761242400-1761251400@www.folktalewinery.com
SUMMARY:Candlelit Concert: Timeless Tunes Through The Decades
DESCRIPTION:Cozy up with a glass of wine as the Monterey String Quartet takes you on a magical evening of musical memories\, blending classics from The Temptations\, Elvis\, Stevie Wonder\, The Police\, and Simon & Garfunkel with modern hits by Taylor Swift\, Ed Sheeran\, Radiohead\, Dua Lipa\, and more. \nSnag your ticket here before they’re gone! 👉 Click to grab yours \n\nFolktale Wine Clubs get an exclusive ticket discount! Not a member? Click here to join the club!
URL:https://www.folktalewinery.com/event/candlelit-concert-timeless-tunes-through-the-decades/
LOCATION:Folktale Winery\, 8940 Carmel Valley Road\, Carmel\, CA\, 93923\, United States
END:VEVENT
BEGIN:VEVENT
DTSTART;TZID=America/Vancouver:20251024T170000
DTEND;TZID=America/Vancouver:20251024T190000
DTSTAMP:20260425T064713
CREATED:20250927T202232Z
LAST-MODIFIED:20250927T202232Z
UID:10018573-1761325200-1761332400@www.folktalewinery.com
SUMMARY:RJ DeMarco
DESCRIPTION:RJ is a versatile multi-instrumentalist and producer who seamlessly blends live performance with innovative production techniques. Drawing from over 20 years of musical experience\, RJ creates dynamic soundscapes by expertly weaving together saxophone\, guitar\, keyboards\, and vocals through live looping technology. Originally from Buffalo\, New York\, and now based in Monterey\, California\, RJ has developed a unique artistic voice that bridges the gap between traditional instrumentation and modern production method. \nMusic is complimentary for our guests to enjoy during your visit with us; reservations recommended! Check out the full upcoming lineup.
URL:https://www.folktalewinery.com/event/rj-demarco-6/
LOCATION:Folktale Winery\, 8940 Carmel Valley Road\, Carmel\, CA\, 93923\, United States
END:VEVENT
BEGIN:VEVENT
DTSTART;VALUE=DATE:20251025
DTEND;VALUE=DATE:20251026
DTSTAMP:20260425T064713
CREATED:20251003T210641Z
LAST-MODIFIED:20251003T211621Z
UID:10018586-1761350400-1761436799@www.folktalewinery.com
SUMMARY:WINE GARDEN CLOSED
DESCRIPTION:The Wine Garden will be CLOSED for a Private Event!
URL:https://www.folktalewinery.com/event/wine-garden-closed-8/
LOCATION:Folktale Winery\, 8940 Carmel Valley Road\, Carmel\, CA\, 93923\, United States
END:VEVENT
END:VCALENDAR